BEGIN:VCALENDAR
VERSION:2.0
PRODID:-//Morphosis Creative - ECPv6.9.1//NONSGML v1.0//EN
CALSCALE:GREGORIAN
METHOD:PUBLISH
X-WR-CALNAME:Morphosis Creative
X-ORIGINAL-URL:https://morphosiscreative.com
X-WR-CALDESC:Events for Morphosis Creative
REFRESH-INTERVAL;VALUE=DURATION:PT1H
X-Robots-Tag:noindex
X-PUBLISHED-TTL:PT1H
BEGIN:VTIMEZONE
TZID:UTC
BEGIN:STANDARD
TZOFFSETFROM:+0000
TZOFFSETTO:+0000
TZNAME:UTC
DTSTART:20250101T000000
END:STANDARD
END:VTIMEZONE
BEGIN:VEVENT
DTSTART;TZID=UTC:20250802T070000
DTEND;TZID=UTC:20250802T210000
DTSTAMP:20260424T003817
CREATED:20250521T201719Z
LAST-MODIFIED:20250710T154739Z
UID:1821-1754118000-1754168400@morphosiscreative.com
SUMMARY:The Speakeasies
DESCRIPTION:Melinda McPeek  on vocals\, Scott Wade on guitar\, Mike Blanchard on Bass & Mike Linen on drums. This incredibly talented group of musicians will rock and sway you with their music! Our lounge offers a menu of coffees\, teas and cold drinks and an array of desserts. We also offer BYOB (bring your own bottle)\, we will provide you glasses and uncork.\n\nCall for reservations \,757-710-8718
URL:https://morphosiscreative.com/event/speakeasies/
LOCATION:Morphosis Gallery\, 33 Market Street\, Onancock\, VA\, 23417\, United States
END:VEVENT
BEGIN:VEVENT
DTSTART;TZID=UTC:20250808T190000
DTEND;TZID=UTC:20250808T210000
DTSTAMP:20260424T003817
CREATED:20250522T151615Z
LAST-MODIFIED:20250710T154836Z
UID:1823-1754679600-1754686800@morphosiscreative.com
SUMMARY:Willie C & Gang\, "Rhythm & Blues"
DESCRIPTION:The seasoned and talented Willie C\, vocals and guitar teams up with Steve Elliot on sax and Mike Blanchard on bass. It will definitely be a great show with this talented trio. Our lounge offers a menu of coffees\, teas\, cold drinks and delicious desserts. We also can BYOB (bring your own bottle) we will provide the glasses and uncork.\n\nCall to reserve your place early!!! 757-710-8718
URL:https://morphosiscreative.com/event/willie-c-gang-rhythm-blues/
LOCATION:VA
END:VEVENT
BEGIN:VEVENT
DTSTART;TZID=UTC:20250815T190000
DTEND;TZID=UTC:20250815T210000
DTSTAMP:20260424T003817
CREATED:20250522T152309Z
LAST-MODIFIED:20250710T154640Z
UID:1826-1755284400-1755291600@morphosiscreative.com
SUMMARY:Bayside Jazz\, featuring Ginny McMath
DESCRIPTION:Bayside Jazz brings us another great trio featuring Ginny McMath on vocal. Ginny is an award winning NYC Broadway performer. Accompanied by Kelly Harris on keyboards and directed by Rick Appel on guitar. Our lounge offers a menu of coffees\, teas\, cold drinks and a delicious array of desserts. You can BYOB (bring your own bottle) we will provide glasses and uncork.\n\nReserve your space\, call us at 757-710-8718
URL:https://morphosiscreative.com/event/bayside-jazz-featuring-ginny-mcmath/
LOCATION:VA
END:VEVENT
BEGIN:VEVENT
DTSTART;TZID=UTC:20250822T190000
DTEND;TZID=UTC:20250822T210000
DTSTAMP:20260424T003817
CREATED:20250522T152755Z
LAST-MODIFIED:20250625T143945Z
UID:1828-1755889200-1755896400@morphosiscreative.com
SUMMARY:Chris English\, "Blues recording artist"- SOLD OUT
DESCRIPTION:This show is SOLD OUT\n\nThe extremely talented and popular Chris English is back in the Listening Room for another tremendous performance. Our lounge offers a menu of coffees\, teas\, cold drinks and a delicious array of desserts. You can also BYOB (bring your own bottle) we will provide glasses & uncork. Be sure to reserve this early\, call us at 757-710-8718
URL:https://morphosiscreative.com/event/chris-english-blues-recording-artist-2/
LOCATION:VA
END:VEVENT
END:VCALENDAR