BEGIN:VCALENDAR
VERSION:2.0
PRODID:-//Morphosis Creative - ECPv6.9.1//NONSGML v1.0//EN
CALSCALE:GREGORIAN
METHOD:PUBLISH
X-WR-CALNAME:Morphosis Creative
X-ORIGINAL-URL:https://morphosiscreative.com
X-WR-CALDESC:Events for Morphosis Creative
REFRESH-INTERVAL;VALUE=DURATION:PT1H
X-Robots-Tag:noindex
X-PUBLISHED-TTL:PT1H
BEGIN:VTIMEZONE
TZID:UTC
BEGIN:STANDARD
TZOFFSETFROM:+0000
TZOFFSETTO:+0000
TZNAME:UTC
DTSTART:20250101T000000
END:STANDARD
END:VTIMEZONE
BEGIN:VEVENT
DTSTART;TZID=UTC:20250706T180000
DTEND;TZID=UTC:20250706T210000
DTSTAMP:20260424T021105
CREATED:20250521T200400Z
LAST-MODIFIED:20250618T160427Z
UID:1817-1751824800-1751835600@morphosiscreative.com
SUMMARY:Outdoor Sidewalk show featuring\,"Faison"\,  Rhythm & Blues band\,
DESCRIPTION:Jackie Faison features  her amazing vocal talents with her groving band. Dance and swaying is a must!! Barney Russell on guitar\, Bill Kretzer on keys\, Michell Crosby on drums and Kurt Meyer on Bass.\n\nBring your lawn chairs and picnic of your choice and relax with friends.\, and enjoy the music in front of Morphosis.
URL:https://morphosiscreative.com/event/outdoor-sidewalk-show-featuringfaison-rhythm-blues-band/
LOCATION:VA
END:VEVENT
BEGIN:VEVENT
DTSTART;TZID=UTC:20250712T190000
DTEND;TZID=UTC:20250712T210000
DTSTAMP:20260424T021105
CREATED:20250504T171449Z
LAST-MODIFIED:20250530T145053Z
UID:1813-1752346800-1752354000@morphosiscreative.com
SUMMARY:La Doo Vay
DESCRIPTION:The premiere of this swinging & unique trio in the Listening Room. William (POOH) Johnston\, Mike Blanchard and Clark Lovelady will entertain you with their fine talents!! It’s sure to be an fun experience for all. We will offer our coffee and dessert menu and you have the option to BYOB (bring your own bottle).\n\nReservations suggested\, the seating is limited! 757-710-8718
URL:https://morphosiscreative.com/event/la-doo-vay/
LOCATION:Morphosis Gallery\, 33 Market Street\, Onancock\, VA\, 23417\, United States
END:VEVENT
BEGIN:VEVENT
DTSTART;TZID=UTC:20250725T070000
DTEND;TZID=UTC:20250725T210000
DTSTAMP:20260424T021105
CREATED:20250521T200835Z
LAST-MODIFIED:20250522T154547Z
UID:1819-1753426800-1753477200@morphosiscreative.com
SUMMARY:Bayside Jazz\, with Rick\, Steve & Kelly
DESCRIPTION:Rick Appel guitarist directs Steve Elliot on sax and Kelly Harris on Keyboards. Enjoy this talented trio in our intimate dessert lounge. We offer a menu of coffee’s\, teas & cold drinks and an array of desserts. You can BYOB ( bring you own bottle) we will provide you with glasses & and uncork.\n\nCall for reservations 757-710-8718
URL:https://morphosiscreative.com/event/bayside-jazz-with-rick-steve-kelly/
LOCATION:Morphosis Gallery\, 33 Market Street\, Onancock\, VA\, 23417\, United States
END:VEVENT
END:VCALENDAR