BEGIN:VCALENDAR
VERSION:2.0
PRODID:-//Morphosis Creative - ECPv6.9.1//NONSGML v1.0//EN
CALSCALE:GREGORIAN
METHOD:PUBLISH
X-ORIGINAL-URL:https://morphosiscreative.com
X-WR-CALDESC:Events for Morphosis Creative
REFRESH-INTERVAL;VALUE=DURATION:PT1H
X-Robots-Tag:noindex
X-PUBLISHED-TTL:PT1H
BEGIN:VTIMEZONE
TZID:UTC
BEGIN:STANDARD
TZOFFSETFROM:+0000
TZOFFSETTO:+0000
TZNAME:UTC
DTSTART:20240101T000000
END:STANDARD
END:VTIMEZONE
BEGIN:VEVENT
DTSTART;VALUE=DATE:20241006
DTEND;VALUE=DATE:20241101
DTSTAMP:20260424T164842
CREATED:20241006T144824Z
LAST-MODIFIED:20241006T144824Z
UID:1689-1728172800-1730419199@morphosiscreative.com
SUMMARY:Fine Art Sale
DESCRIPTION:10% off all Fine Art Now!!!\n\nNow until Halloween 10/31/2024\, all framed and unframed art is on sale on line and at Morphosis.
URL:https://morphosiscreative.com/event/fine-art-sale/
LOCATION:Morphosis Gallery\, 33 Market Street\, Onancock\, VA\, 23417\, United States
END:VEVENT
BEGIN:VEVENT
DTSTART;TZID=UTC:20241011T180000
DTEND;TZID=UTC:20241011T210000
DTSTAMP:20260424T164842
CREATED:20240929T163035Z
LAST-MODIFIED:20240929T163035Z
UID:1676-1728669600-1728680400@morphosiscreative.com
SUMMARY:Clara & Company at C Pier\, Cape Charles
DESCRIPTION:Come listen to the music of Clara & Company at the beautiful C Pier at the Oyster Farms in Cape Charles.
URL:https://morphosiscreative.com/event/clara-company-at-c-pier-cape-charles/
LOCATION:Oyster Farms\, Cape Charles
END:VEVENT
BEGIN:VEVENT
DTSTART;TZID=UTC:20241025T090000
DTEND;TZID=UTC:20241026T190000
DTSTAMP:20260424T164842
CREATED:20240828T192433Z
LAST-MODIFIED:20240828T192433Z
UID:1669-1729846800-1729969200@morphosiscreative.com
SUMMARY:31st Between the Waters bike tour
DESCRIPTION:Extended Gallery hours\, special promotions & refreshments!!!
URL:https://morphosiscreative.com/event/31st-between-the-waters-bike-tour/
LOCATION:Morphosis Gallery\, 33 Market Street\, Onancock\, VA\, 23417\, United States
ORGANIZER;CN="Bill & Lynne Kretzer":MAILTO:lynnekretzer@gmail.com
END:VEVENT
END:VCALENDAR