BEGIN:VCALENDAR
VERSION:2.0
PRODID:-//Morphosis Creative - ECPv6.9.1//NONSGML v1.0//EN
CALSCALE:GREGORIAN
METHOD:PUBLISH
X-ORIGINAL-URL:https://morphosiscreative.com
X-WR-CALDESC:Events for Morphosis Creative
REFRESH-INTERVAL;VALUE=DURATION:PT1H
X-Robots-Tag:noindex
X-PUBLISHED-TTL:PT1H
BEGIN:VTIMEZONE
TZID:UTC
BEGIN:STANDARD
TZOFFSETFROM:+0000
TZOFFSETTO:+0000
TZNAME:UTC
DTSTART:20240101T000000
END:STANDARD
END:VTIMEZONE
BEGIN:VEVENT
DTSTART;TZID=UTC:20240913T173000
DTEND;TZID=UTC:20240913T193000
DTSTAMP:20260424T181719
CREATED:20240828T192122Z
LAST-MODIFIED:20240828T192122Z
UID:1667-1726248600-1726255800@morphosiscreative.com
SUMMARY:OBCA's 2nd Friday. Party on Market Street!
DESCRIPTION:OBCA’s 2nd Friday Celebration. Party on Market Street. Featuring the music at Morphosis: “Clara & Company”\, the Eastern Shore’s favorite 6 piece dance band! 6-8pm.\n\nGallery special promotions and refreshments
URL:https://morphosiscreative.com/event/obcas-2nd-friday-party-on-market-street/
LOCATION:Morphosis Gallery\, 33 Market Street\, Onancock\, VA\, 23417\, United States
ORGANIZER;CN="Bill & Lynne Kretzer":MAILTO:lynnekretzer@gmail.com
END:VEVENT
END:VCALENDAR