BEGIN:VCALENDAR
VERSION:2.0
PRODID:-//Morphosis Creative - ECPv6.9.1//NONSGML v1.0//EN
CALSCALE:GREGORIAN
METHOD:PUBLISH
X-ORIGINAL-URL:https://morphosiscreative.com
X-WR-CALDESC:Events for Morphosis Creative
REFRESH-INTERVAL;VALUE=DURATION:PT1H
X-Robots-Tag:noindex
X-PUBLISHED-TTL:PT1H
BEGIN:VTIMEZONE
TZID:UTC
BEGIN:STANDARD
TZOFFSETFROM:+0000
TZOFFSETTO:+0000
TZNAME:UTC
DTSTART:20240101T000000
END:STANDARD
END:VTIMEZONE
BEGIN:VEVENT
DTSTART;VALUE=DATE:20240222
DTEND;VALUE=DATE:20240323
DTSTAMP:20260425T033351
CREATED:20240219T201233Z
LAST-MODIFIED:20240219T201233Z
UID:1528-1708560000-1711151999@morphosiscreative.com
SUMMARY:Jack Richardson Exhibition & Clearance Sale
DESCRIPTION:Richardson Gallery is closing and moving to Morphosis Gallery. Fine\, unframed treasures are now available made by Jack through the years. Come into the Gallery or call for a private or remote viewing. 757-710 8718
URL:https://morphosiscreative.com/event/jack-richardson-exhibition-clearance-sale/
LOCATION:Morphosis Gallery\, 33 Market Street\, Onancock\, VA\, 23417\, United States
ORGANIZER;CN="Bill & Lynne Kretzer":MAILTO:lynnekretzer@gmail.com
END:VEVENT
BEGIN:VEVENT
DTSTART;TZID=UTC:20240315T180000
DTEND;TZID=UTC:20240315T200000
DTSTAMP:20260425T033351
CREATED:20240310T145145Z
LAST-MODIFIED:20240310T145145Z
UID:1532-1710525600-1710532800@morphosiscreative.com
SUMMARY:Reception For Jack Richardson
DESCRIPTION:All are welcome to Morphosis Gallery to meet Jack Richardson and see his collection of exceptional oil paintings. Refreshment served.
URL:https://morphosiscreative.com/event/reception-for-jack-richardson/
LOCATION:VA
ORGANIZER;CN="Bill & Lynne Kretzer":MAILTO:lynnekretzer@gmail.com
END:VEVENT
END:VCALENDAR