BEGIN:VCALENDAR
VERSION:2.0
PRODID:-//Morphosis Creative - ECPv6.9.1//NONSGML v1.0//EN
CALSCALE:GREGORIAN
METHOD:PUBLISH
X-ORIGINAL-URL:https://morphosiscreative.com
X-WR-CALDESC:Events for Morphosis Creative
REFRESH-INTERVAL;VALUE=DURATION:PT1H
X-Robots-Tag:noindex
X-PUBLISHED-TTL:PT1H
BEGIN:VTIMEZONE
TZID:UTC
BEGIN:STANDARD
TZOFFSETFROM:+0000
TZOFFSETTO:+0000
TZNAME:UTC
DTSTART:20250101T000000
END:STANDARD
END:VTIMEZONE
BEGIN:VEVENT
DTSTART;TZID=UTC:20251212T190000
DTEND;TZID=UTC:20251212T210000
DTSTAMP:20260423T212153
CREATED:20251002T145643Z
LAST-MODIFIED:20251002T145643Z
UID:1927-1765566000-1765573200@morphosiscreative.com
SUMMARY:Chris English\, Blues recording Artist
DESCRIPTION:The favorite & talented Chris English is back in our Listening room. Chris knows how to give is audience a great show. It is a poplar show and seats are limited so be sure to reserve your seat at Morphosis\, 757-710-8718. We offer a dessert menu with food & drinks. We also offer BYOB\, bring your own bottle of wine\, and we will provide the glasses and opener.
URL:https://morphosiscreative.com/event/chris-english-blues-recording-artist-4/
LOCATION:VA
END:VEVENT
BEGIN:VEVENT
DTSTART;TZID=UTC:20251220T190000
DTEND;TZID=UTC:20251220T213000
DTSTAMP:20260423T212153
CREATED:20251002T143649Z
LAST-MODIFIED:20251119T173411Z
UID:1925-1766257200-1766266200@morphosiscreative.com
SUMMARY:LA DOO VAY
DESCRIPTION:Let LA DOO VAY\, the talented Pooh Johnson\, Mike Blanchard\, Clark Lovelady\, and many sit in guests entertain you with their favorite music and unpredictable antics. It is sure to be a fun filled evening!!! We have a menu of delicious desserts & hot & cold drinks. There is also a BYOB option\, bring your own bottle of wine and let us provide you with an opener and glasses.  Call 757-710-8718\, or come into Morphosis for your ticket to this great event.
URL:https://morphosiscreative.com/event/morphosis-christmas-party-featuring-la-doo-vay/
LOCATION:VA
END:VEVENT
BEGIN:VEVENT
DTSTART;TZID=UTC:20260131T190000
DTEND;TZID=UTC:20260131T210000
DTSTAMP:20260423T212153
CREATED:20251211T151553Z
LAST-MODIFIED:20251211T151553Z
UID:1940-1769886000-1769893200@morphosiscreative.com
SUMMARY:Willie C & Gang
DESCRIPTION:The rhythm and blues king of the eastern shore is back in our Listening Room for another rocking show!!! Willie is joined by Steve Elliot on sax\, Mike Blanchard on Bass & Mike Linen on drums.\n\nEnjoy drinks and delicious dessert from our lounge menu and we offer BYOB ( bring your own bottle)\, let us provide the glasses and opener.\n\nThis is a popular show so call or come into Morphosis to reserve your seats early! 757-710-8718.
URL:https://morphosiscreative.com/event/willie-c-gang-3/
LOCATION:Morphosis Gallery\, 33 Market Street\, Onancock\, VA\, 23417\, United States
END:VEVENT
BEGIN:VEVENT
DTSTART;TZID=UTC:20260207T190000
DTEND;TZID=UTC:20260207T210000
DTSTAMP:20260423T212153
CREATED:20251211T152534Z
LAST-MODIFIED:20251211T152534Z
UID:1942-1770490800-1770498000@morphosiscreative.com
SUMMARY:Bayside Jazz\, featuring Ginny McMath and Sean Thomas
DESCRIPTION:Let Ginny and Sean entertain you through music\, banter and stories. Their chemistry is contagious! And there are always surprising and talented guests popping in for a song or 2. Ginny and Sean are accompanied by Rick Appel on guitar and Kelly Harris on keyboards. Enjoy our dessert lounge menu of drinks and delicious homemade cakes and more. We offer BYOB\, bring your own bottle\, let us provide the glasses and opener for you! Call to reserve your seats at Morphosis.
URL:https://morphosiscreative.com/event/bayside-jazz-featuring-ginny-mcmath-and-sean-thomas/
LOCATION:Morphosis Gallery\, 33 Market Street\, Onancock\, VA\, 23417\, United States
END:VEVENT
BEGIN:VEVENT
DTSTART;TZID=UTC:20260213T190000
DTEND;TZID=UTC:20260213T210000
DTSTAMP:20260423T212153
CREATED:20251211T154124Z
LAST-MODIFIED:20251217T183439Z
UID:1944-1771009200-1771016400@morphosiscreative.com
SUMMARY:The Chris English Band Concert
DESCRIPTION:This is special ticketed event\, available only at Morphosis\,  $20 or $25 at the door the night of the show. Morphosis hosts; Chris English and his band.\n\nChris English\, 6 x Blues recording artist\, and his band will be performing for a special evening at the North Street Theater in Onancock. This will be a rocking night to remember! There will be a cash bar with wine\, beer & snacks. No outside food or beverages.\n\nCall or come into Morphosis for your tickets\, 757-710-8718.
URL:https://morphosiscreative.com/event/the-chris-english-band-concert/
LOCATION:North Street Playhouse\, 34 Market Street\, Onancock\, Virginia\, 23417
END:VEVENT
BEGIN:VEVENT
DTSTART;TZID=UTC:20260221T190000
DTEND;TZID=UTC:20260221T210000
DTSTAMP:20260423T212153
CREATED:20251211T155639Z
LAST-MODIFIED:20251211T155639Z
UID:1949-1771700400-1771707600@morphosiscreative.com
SUMMARY:Melinda and the Speakeasies
DESCRIPTION:Join us in welcoming the Speakeasies back to our Listening Room! We all love the haunting and powerful vocals of Melinda McPeek\, with the talented Scott Wade on guitar\, Mike Blanchard on Bass & Mike Linen on drums. Their style is smooth\, unique and so enjoyable! We offer a dessert/coffee menu in our lounge\, you can BYOB\, bring your our bottle\, we will provide the glasses and opener for you. Call to reserve your seat\, 757-710-8718.
URL:https://morphosiscreative.com/event/melinda-and-the-speakeasies/
LOCATION:Morphosis Gallery\, 33 Market Street\, Onancock\, VA\, 23417\, United States
END:VEVENT
BEGIN:VEVENT
DTSTART;TZID=UTC:20260228T190000
DTEND;TZID=UTC:20260228T210000
DTSTAMP:20260423T212153
CREATED:20251211T160725Z
LAST-MODIFIED:20251211T160725Z
UID:1951-1772305200-1772312400@morphosiscreative.com
SUMMARY:Jackie & the Rhythm & blues squad
DESCRIPTION:Jackie’s powerful vocals and dynamic personally can entertain like nothing else on the Eastern shore. Jackie sings with heart and soul. She is accompanied by Barney Russell on guitar\, Bill Kretzer on Keys\, Steve Elliot on Sax and Mitchell Crosby on percussion. Enjoy offerings of desserts and drinks from our menu\, we allow BYOB\, bring your own bottle\, let us provide the glasses and opener for you. This is a popular show so call for reservations early! 757-710-8718
URL:https://morphosiscreative.com/event/jackie-the-rhythm-blues-squad/
LOCATION:Morphosis Gallery\, 33 Market Street\, Onancock\, VA\, 23417\, United States
END:VEVENT
BEGIN:VEVENT
DTSTART;TZID=UTC:20260307T190000
DTEND;TZID=UTC:20260307T210000
DTSTAMP:20260423T212153
CREATED:20260102T172710Z
LAST-MODIFIED:20260102T172710Z
UID:1956-1772910000-1772917200@morphosiscreative.com
SUMMARY:Willie C & Gang
DESCRIPTION:The Eastern Shores “King of Rhythm & Blues”\, the amazing Willie C.\, is in our Listening Room. Willie is singing and playing guitar joined by Steve Elliot on Sax\, Mike Blanchard on Bass and Mike Linen on drums. Enjoy the delicious desserts and drinks on our dessert lounge menu and you are welcome to BYOB\, bring your own bottle. Please let us provide your glasses and uncorking. Call to reserve your seats\, space is limited. 757-710-8718.
URL:https://morphosiscreative.com/event/willie-c-gang-4/
LOCATION:Morphosis Gallery\, 33 Market Street\, Onancock\, VA\, 23417\, United States
END:VEVENT
BEGIN:VEVENT
DTSTART;TZID=UTC:20260314T190000
DTEND;TZID=UTC:20260314T210000
DTSTAMP:20260423T212153
CREATED:20260102T173649Z
LAST-MODIFIED:20260102T173649Z
UID:1958-1773514800-1773522000@morphosiscreative.com
SUMMARY:SALTS; Celtic songs & ESVA Stories
DESCRIPTION:SALTS is offering a special St. Patrick’s Day show in the Listening room. Thom Nolan\, John Heinz & Bill Troxler are going to bring a celebration to you that only SALTS can do!!! Many cool stories and songs the Celtic way. Join us for this unique evening of original entertainment. We offer a dessert menu of food and drinks and you have the option to BYOB\, bring your own bottle. Let us provide the glasses and corking for you. Call or come in early to reserve your seat for this show. seating is limited. 757-710-8718
URL:https://morphosiscreative.com/event/salts-celtic-songs-esva-stories/
LOCATION:Morphosis Gallery\, 33 Market Street\, Onancock\, VA\, 23417\, United States
END:VEVENT
BEGIN:VEVENT
DTSTART;TZID=UTC:20260321T190000
DTEND;TZID=UTC:20260321T210000
DTSTAMP:20260423T212153
CREATED:20260127T164218Z
LAST-MODIFIED:20260127T164218Z
UID:1965-1774119600-1774126800@morphosiscreative.com
SUMMARY:LA Doo Vay
DESCRIPTION:The always entertaining LA Doo Vay\, is back lead by Pooh Johnston & Clark Lovelady accompanied by their cast of talented musicians. They are always creative with their song choices and arrangements which will keep you thoroughly engaged. Enjoy desserts and drinks from our menu and we offer a BYOB option ( bring a bottle of wine with  you)\, just let us provide the glasses and opener.  La Doo Vay is very a very popular show\, so be sure to reserve early\, call 757-710-8718.
URL:https://morphosiscreative.com/event/la-doo-vay-3/
LOCATION:Morphosis Gallery\, 33 Market Street\, Onancock\, VA\, 23417\, United States
END:VEVENT
BEGIN:VEVENT
DTSTART;TZID=UTC:20260330T180000
DTEND;TZID=UTC:20260330T200000
DTSTAMP:20260423T212153
CREATED:20260304T170503Z
LAST-MODIFIED:20260304T170535Z
UID:1984-1774893600-1774900800@morphosiscreative.com
SUMMARY:Poetry Night
DESCRIPTION:Join us for Coffee talk in the Listening room. Our featured poets are Melinda McPeek\, Morghan Leigh\, Kendall Bradley and Marty Burgess. Audience participation is encouraged\, guest poets are welcome to share. An evening of brilliant insight while enjoying our delicious coffee & dessert cafe. Seating is limited\, so reservations are strongly suggested. call 757-710-8718
URL:https://morphosiscreative.com/event/poetry-night/
LOCATION:Morphosis Gallery\, 33 Market Street\, Onancock\, VA\, 23417\, United States
END:VEVENT
BEGIN:VEVENT
DTSTART;TZID=UTC:20260410T190000
DTEND;TZID=UTC:20260410T210000
DTSTAMP:20260423T212153
CREATED:20260127T165104Z
LAST-MODIFIED:20260127T165104Z
UID:1968-1775847600-1775854800@morphosiscreative.com
SUMMARY:Chris English\, blues
DESCRIPTION:Join us for an evening of incredible blues featuring the 6 x recording artist Chris English. This intimate 20 seat room is the perfect venue to listen to Chris without distraction. We offer a fine dessert menu and we have a BYOB option ( bring your our bottle of wine or beer) let us provide the glasses and opener for you! This show sells out fast\, call now for your reserved seats\, 757-710-8718.
URL:https://morphosiscreative.com/event/chris-english-blues/
LOCATION:Morphosis Gallery\, 33 Market Street\, Onancock\, VA\, 23417\, United States
END:VEVENT
BEGIN:VEVENT
DTSTART;TZID=UTC:20260418T190000
DTEND;TZID=UTC:20260418T210000
DTSTAMP:20260423T212153
CREATED:20260127T165839Z
LAST-MODIFIED:20260127T165839Z
UID:1970-1776538800-1776546000@morphosiscreative.com
SUMMARY:Bayside Jazz \,featuring Ginny McMath & Sean Thomas
DESCRIPTION:The talented & charming duo\, Ginny and Sean\, will entertain you with show tunes\, Jazz standards and their quick wit and banter. They are accompanied by Rick Appel on guitar and Natasha Smoot on keyboards. We offer a dessert and drink menu and you can take advantage of our BYOB option ( bring your own bottle of wine). Let us provide the glasses and opener for you. Call 757-710-8718 to reserve your seats.
URL:https://morphosiscreative.com/event/bayside-jazz-featuring-ginny-mcmath-sean-thomas/
LOCATION:Morphosis Gallery\, 33 Market Street\, Onancock\, VA\, 23417\, United States
END:VEVENT
BEGIN:VEVENT
DTSTART;TZID=UTC:20260425T190000
DTEND;TZID=UTC:20260425T210000
DTSTAMP:20260423T212153
CREATED:20260219T163627Z
LAST-MODIFIED:20260219T165010Z
UID:1974-1777143600-1777150800@morphosiscreative.com
SUMMARY:Jackie Faison & her Squad
DESCRIPTION:We welcome Jackie and the guys back to the Listening Room. Jackie’s dynamic voice resonates in our special room. She is accompanied by Barney Russell on guitar\, Steve Elliot on sax\, Bill Kretzer on keyboards and Mitchell Crosby on percussion. Join us in our dessert lounge. We offer a menu of sweet treats and soft drinks (hot & cold). We also allow you to BYOB\, bring your own bottle of wine and we will provide you glasses and an opener. This group is extremely popular\, we advise you to call well in advance to book you seat. The seating is limited in our room. 757-710-8718
URL:https://morphosiscreative.com/event/jackie-faison-her-squad/
LOCATION:Morphosis Gallery\, 33 Market Street\, Onancock\, VA\, 23417\, United States
END:VEVENT
BEGIN:VEVENT
DTSTART;TZID=UTC:20260502T190000
DTEND;TZID=UTC:20260502T210000
DTSTAMP:20260423T212153
CREATED:20260219T164507Z
LAST-MODIFIED:20260219T164656Z
UID:1976-1777748400-1777755600@morphosiscreative.com
SUMMARY:Melinda & the Speakeasies
DESCRIPTION:You will thoroughly enjoy Melinda & the Speakeasies! Melinda has a haunting and beautiful voice\, she is joined by Scott Wade on guitar\, Mike Blanchard on Bass and Mike Linen on drums. This talented 4some will keep you swaying in your seats! We offer a dessert menu of cakes and other sweets to choose from and hot & cold beverages. We also offer you the option of BYOB\, bring your own bottle of wine and let us provide the glasses and opener for you. Call 757-710-8718 and reserve your seat soon for this popular show.
URL:https://morphosiscreative.com/event/melinda-the-speakeasies/
LOCATION:Morphosis Gallery\, 33 Market Street\, Onancock\, VA\, 23417\, United States
END:VEVENT
BEGIN:VEVENT
DTSTART;TZID=UTC:20260508T190000
DTEND;TZID=UTC:20260508T210000
DTSTAMP:20260423T212153
CREATED:20260325T143039Z
LAST-MODIFIED:20260325T143039Z
UID:2003-1778266800-1778274000@morphosiscreative.com
SUMMARY:LA DOO VAY
DESCRIPTION:Be entertained by this talented and unique band led by Pooh Johnston.  Pooh is joined by\, Clark ( guitar & vocals)\, Mike (Bass)\, Steve (horns)\, Tom (sax)\, Scott (drums) & Andrea ( vocals). They are a big band with a big personality\, it’s always a fun evening with La Doo Vay. We offer a dessert menu with baked treats and Hot & Cold drinks. We also offer BYOB\, bring your own bottle\, just let us provide the glasses and open it for you. La Doo Vay sells out fast and seating is limited\, so call early to reserve your seat. 757-710-8718.
URL:https://morphosiscreative.com/event/la-doo-vay-4/
LOCATION:Morphosis Gallery\, 33 Market Street\, Onancock\, VA\, 23417\, United States
END:VEVENT
BEGIN:VEVENT
DTSTART;TZID=UTC:20260516T190000
DTEND;TZID=UTC:20260516T210000
DTSTAMP:20260423T212153
CREATED:20260304T173120Z
LAST-MODIFIED:20260304T173120Z
UID:1992-1778958000-1778965200@morphosiscreative.com
SUMMARY:Willie C & Gang
DESCRIPTION:Eastern shores king of Rhythm & blues\, Willie C is joined by Mike Blanchard on bass\, Steve Elliot on Sax and Mike Linen on drums. This talented group of musicians will keep you swaying to the music!!!!\n\nWe offer a menu of coffees and desserts and you have the option to BYOB\, bring your own bottle of wine\, just let us provide the glasses and opener for you. Call 757-710-8718 to reserve your seat for this fantastic show!!! seats are limited.
URL:https://morphosiscreative.com/event/willie-c-gang-5/
LOCATION:Morphosis Gallery\, 33 Market Street\, Onancock\, VA\, 23417\, United States
END:VEVENT
BEGIN:VEVENT
DTSTART;TZID=UTC:20260520T183000
DTEND;TZID=UTC:20260520T203000
DTSTAMP:20260423T212153
CREATED:20260423T152842Z
LAST-MODIFIED:20260423T152842Z
UID:2009-1779301800-1779309000@morphosiscreative.com
SUMMARY:Author Talk with Timothy Smith
DESCRIPTION:Timothy will discuss his book  “God Code”\, the discovery and the process. And Timothy will talk about the process of book publishing. Enjoy an evening of insight and discussion while enjoying our dessert cafe. You also have the option to BYOB bring your own bottle of wine. Please let us provide the glasses and opener for you. Seating is limited and required. Call 757-710-8718 to reserve your seat.
URL:https://morphosiscreative.com/event/author-talk-with-timothy-smith/
LOCATION:Morphosis Gallery\, 33 Market Street\, Onancock\, VA\, 23417\, United States
END:VEVENT
BEGIN:VEVENT
DTSTART;TZID=UTC:20260522T190000
DTEND;TZID=UTC:20260522T210000
DTSTAMP:20260423T212153
CREATED:20260304T172434Z
LAST-MODIFIED:20260318T171356Z
UID:1990-1779476400-1779483600@morphosiscreative.com
SUMMARY:SALTS\, "Celtic Songs & ESVA stories"
DESCRIPTION:Thom Nolan\, John Heinz and Bill Troxler\, a talented and entertaining trio brings wonderful music and interesting stories of our unique Eastern shores history. We offer a menu of coffees and desserts and the option to BYOB\, bring your own bottle of wine. Call 757-710-8718 to reserve your seats for this show.
URL:https://morphosiscreative.com/event/salts-celtic-songs-esva-stories-2/
LOCATION:Morphosis Gallery\, 33 Market Street\, Onancock\, VA\, 23417\, United States
END:VEVENT
BEGIN:VEVENT
DTSTART;TZID=UTC:20260529T190000
DTEND;TZID=UTC:20260529T210000
DTSTAMP:20260423T212153
CREATED:20260319T144629Z
LAST-MODIFIED:20260325T141929Z
UID:1996-1780081200-1780088400@morphosiscreative.com
SUMMARY:The Storytellers
DESCRIPTION:The debut of the storytellers… featuring the original music of  Chris Chandler (bass guitar)  & Bill Kretzer (keyboards). An exciting mix of unique compositions from his talented duo!!! They are accompanied by Scott Wade (guitar) & Mike Linen (drums).  Enjoy our dessert menu of  delicious foods and drinks\, and we offer the option to BYOB ( bring your our bottle)\, let us provide the opener and glasses for you.  Call 757-710-8718 to reserve your seats\, the seating is limited.
URL:https://morphosiscreative.com/event/the-storytellers/
LOCATION:Morphosis Gallery\, 33 Market Street\, Onancock\, VA\, 23417\, United States
END:VEVENT
BEGIN:VEVENT
DTSTART;TZID=UTC:20260605T190000
DTEND;TZID=UTC:20260605T210000
DTSTAMP:20260423T212153
CREATED:20260319T145437Z
LAST-MODIFIED:20260319T145437Z
UID:1998-1780686000-1780693200@morphosiscreative.com
SUMMARY:Sean Thomas & Ginny McMath with Bayside Jazz
DESCRIPTION:Enjoy an evening of Jazz & show tunes sung by the talented\, accomplished & spirited duo of Sean Thomas & Ginny McMath. They are accompanied by Rick Appel (guitar) and Natasha Smoot ( keyboards) of Bayside Jazz. We offer a dessert menu of delicious treats and coffees\, soft drinks and offer you the option to BYOB (bring your own bottle) let us provide the opener and glasses for you. Call 757-71-8718 to reserve your seats for this popular show. The seating is limited.
URL:https://morphosiscreative.com/event/sean-thomas-ginny-mcmath-with-bayside-jazz/
LOCATION:Morphosis Gallery\, 33 Market Street\, Onancock\, VA\, 23417\, United States
END:VEVENT
BEGIN:VEVENT
DTSTART;TZID=UTC:20260619T190000
DTEND;TZID=UTC:20260619T210000
DTSTAMP:20260423T212153
CREATED:20260319T150258Z
LAST-MODIFIED:20260319T150258Z
UID:2000-1781895600-1781902800@morphosiscreative.com
SUMMARY:Chris English blues
DESCRIPTION:The talented\, 6 x recording artist\, Chris English is back in our Listening room. Chris’s unique blues style is the key to his success. Chris will perform originals & other blues favorites.  This an an intimate setting to see Chris at his very best. We offer you a dessert menu of delicious treats with hot & cold beverages and offer you the option to BYOB ( bring you own bottle). Let us provide you with the opener and glasses. Chris sells out fast! seating is limited\, so call 757-710-8718 to reserve your seats early.
URL:https://morphosiscreative.com/event/chris-english-blues-2/
LOCATION:Morphosis Gallery\, 33 Market Street\, Onancock\, VA\, 23417\, United States
END:VEVENT
END:VCALENDAR