BEGIN:VCALENDAR
VERSION:2.0
PRODID:-//Morphosis Creative - ECPv6.9.1//NONSGML v1.0//EN
CALSCALE:GREGORIAN
METHOD:PUBLISH
X-WR-CALNAME:Morphosis Creative
X-ORIGINAL-URL:https://morphosiscreative.com
X-WR-CALDESC:Events for Morphosis Creative
REFRESH-INTERVAL;VALUE=DURATION:PT1H
X-Robots-Tag:noindex
X-PUBLISHED-TTL:PT1H
BEGIN:VTIMEZONE
TZID:UTC
BEGIN:STANDARD
TZOFFSETFROM:+0000
TZOFFSETTO:+0000
TZNAME:UTC
DTSTART:20230101T000000
END:STANDARD
END:VTIMEZONE
BEGIN:VEVENT
DTSTART;TZID=UTC:20231110T170000
DTEND;TZID=UTC:20231110T200000
DTSTAMP:20260425T162115
CREATED:20231004T144646Z
LAST-MODIFIED:20231004T144646Z
UID:1376-1699635600-1699646400@morphosiscreative.com
SUMMARY:November 2nd Friday Artist reception for Jolie Maybaum and Music Jam
DESCRIPTION:Musicans are all welcome to come to the Gallery and Jam with our luthiers Dan Jasper and Bill Kretzer and play their awesome instruments. We are also hosting our mixed media artist Jolie Maybaum. Come meet Jolie and see her amazing art. It will be a fun night for music  & art lovers at the gallery. Refreshments for all.
URL:https://morphosiscreative.com/event/november-2nd-friday-artist-reception-for-jolie-maybaum-and-music-jam/
LOCATION:Morphosis Gallery\, 33 Market Street\, Onancock\, VA\, 23417\, United States
ORGANIZER;CN="Bill & Lynne Kretzer":MAILTO:lynnekretzer@gmail.com
END:VEVENT
BEGIN:VEVENT
DTSTART;TZID=UTC:20231013T170000
DTEND;TZID=UTC:20231013T200000
DTSTAMP:20260425T162115
CREATED:20231004T144055Z
LAST-MODIFIED:20231004T144055Z
UID:1374-1697216400-1697227200@morphosiscreative.com
SUMMARY:Friday the 13th Artisan Reception for Vesna Zidovec
DESCRIPTION:Morphosis Gallery is hosting a reception for Vena Zidovec\, ceramic artist. See her fantastic display  & join us for Halloween themed refreshments and live music by Keith Kollman.
URL:https://morphosiscreative.com/event/friday-the-13th-artisan-reception-for-vesna-zidovec/
LOCATION:Morphosis Gallery\, 33 Market Street\, Onancock\, VA\, 23417\, United States
ORGANIZER;CN="Bill & Lynne Kretzer":MAILTO:lynnekretzer@gmail.com
END:VEVENT
BEGIN:VEVENT
DTSTART;TZID=UTC:20230908T170000
DTEND;TZID=UTC:20230908T200000
DTSTAMP:20260425T162115
CREATED:20230827T175808Z
LAST-MODIFIED:20230827T175808Z
UID:1364-1694192400-1694203200@morphosiscreative.com
SUMMARY:Sidewalk Music Jam & Artisan Showcase
DESCRIPTION:Morphosis will host our impromtu music jam outdoors! Featuring the amazing instruments of “Jasper Custom Guitars” and “Bayou Basses”. All musician are welcome to sit in and play with us.\n\nInside the gallery we will showcase our featured artisan and have refreshments for all to enjoy!!!
URL:https://morphosiscreative.com/event/sidewalk-music-jam-artisan-showcase/
LOCATION:Morphosis Gallery\, 33 Market Street\, Onancock\, VA\, 23417\, United States
ORGANIZER;CN="Bill & Lynne Kretzer":MAILTO:lynnekretzer@gmail.com
END:VEVENT
BEGIN:VEVENT
DTSTART;TZID=UTC:20230903T090000
DTEND;TZID=UTC:20230924T170000
DTSTAMP:20260425T162115
CREATED:20230827T182554Z
LAST-MODIFIED:20230827T182554Z
UID:1371-1693731600-1695574800@morphosiscreative.com
SUMMARY:Saturday's in September Sidewalk Sale
DESCRIPTION:Every Saturday in the month of September we will selected pieces marked down. It’s the perfect opportunity to find a special gift or something special for yourself at a great price!!!!
URL:https://morphosiscreative.com/event/saturdays-in-september-sidewalk-sale/
LOCATION:Morphosis Gallery\, 33 Market Street\, Onancock\, VA\, 23417\, United States
ORGANIZER;CN="Bill & Lynne Kretzer":MAILTO:lynnekretzer@gmail.com
END:VEVENT
BEGIN:VEVENT
DTSTART;TZID=UTC:20230818T170000
DTEND;TZID=UTC:20230818T200000
DTSTAMP:20260425T162115
CREATED:20230719T170647Z
LAST-MODIFIED:20230719T170647Z
UID:1358-1692378000-1692388800@morphosiscreative.com
SUMMARY:An Evening of Celebration honoring the life and art of Gerald Grace
DESCRIPTION:We welcome Gerald’s family to Onancock. All are invited to join us in celebrating Gerald’s legacy and brilliant art. Live music featuring Jennifer Grace and Eric Eaton\, many wonderful stories\, and refreshments for all to enjoy!
URL:https://morphosiscreative.com/event/an-evening-of-celebration-honoring-the-life-and-art-of-gerald-grace/
LOCATION:Morphosis Gallery\, 33 Market Street\, Onancock\, VA\, 23417\, United States
ORGANIZER;CN="Bill & Lynne Kretzer":MAILTO:lynnekretzer@gmail.com
END:VEVENT
BEGIN:VEVENT
DTSTART;TZID=UTC:20230811T170000
DTEND;TZID=UTC:20230811T193000
DTSTAMP:20260425T162115
CREATED:20230617T174756Z
LAST-MODIFIED:20230712T225022Z
UID:1351-1691773200-1691782200@morphosiscreative.com
SUMMARY:Meet the Artisan - Brenda Llewellyn
DESCRIPTION:We invite everyone to come meet Brenda and see her collection of porcelain and stoneware ceramics. Refreshments and live music will accompany the events.
URL:https://morphosiscreative.com/event/meet-the-artisan/
LOCATION:Morphosis Gallery\, 33 Market Street\, Onancock\, VA\, 23417\, United States
ORGANIZER;CN="Bill & Lynne Kretzer":MAILTO:lynnekretzer@gmail.com
END:VEVENT
BEGIN:VEVENT
DTSTART;TZID=UTC:20230714T170000
DTEND;TZID=UTC:20230714T193000
DTSTAMP:20260425T162115
CREATED:20230608T135513Z
LAST-MODIFIED:20230608T135513Z
UID:1196-1689354000-1689363000@morphosiscreative.com
SUMMARY:Gallery Music Jam
DESCRIPTION:Featuring the music and instruments of Dan Jasper (Jasper Custom Guitars) and Bill Kretzer (Bayou Basses). Come all musicians and music lovers for an evening of great live music and refreshments.
URL:https://morphosiscreative.com/event/gallery-music-jam/
LOCATION:Morphosis Gallery\, 33 Market Street\, Onancock\, VA\, 23417\, United States
ORGANIZER;CN="Bill & Lynne Kretzer":MAILTO:lynnekretzer@gmail.com
END:VEVENT
BEGIN:VEVENT
DTSTART;TZID=UTC:20230617T120000
DTEND;TZID=UTC:20230617T220000
DTSTAMP:20260425T162115
CREATED:20230608T135443Z
LAST-MODIFIED:20230608T141450Z
UID:1195-1687003200-1687039200@morphosiscreative.com
SUMMARY:Bluegrass and Sunset Festival
DESCRIPTION:Come join our own Bayou Basses and Jasper Custom Guitars at this awesome event.
URL:https://morphosiscreative.com/event/bluegrass-and-sunset-festival/
LOCATION:Cristfield\, MD\, Cristfield\, Maryland
ORGANIZER;CN="Bill & Lynne Kretzer":MAILTO:lynnekretzer@gmail.com
END:VEVENT
BEGIN:VEVENT
DTSTART;TZID=UTC:20230609T170000
DTEND;TZID=UTC:20230609T193000
DTSTAMP:20260425T162115
CREATED:20230608T135857Z
LAST-MODIFIED:20230608T135857Z
UID:1200-1686330000-1686339000@morphosiscreative.com
SUMMARY:Meet the Artisan - Sculptor: Guy Shover
DESCRIPTION:Come see Guy’s amazing collection and enjoy live music and refreshments. All are welcome.
URL:https://morphosiscreative.com/event/meet-the-artisan-sculptor-guy-shover/
LOCATION:Morphosis Gallery\, 33 Market Street\, Onancock\, VA\, 23417\, United States
ORGANIZER;CN="Bill & Lynne Kretzer":MAILTO:lynnekretzer@gmail.com
END:VEVENT
BEGIN:VEVENT
DTSTART;TZID=UTC:20230527T100000
DTEND;TZID=UTC:20230527T160000
DTSTAMP:20260425T162115
CREATED:20230421T191747Z
LAST-MODIFIED:20230421T191747Z
UID:1050-1685181600-1685203200@morphosiscreative.com
SUMMARY:Art & Music on the Farm
DESCRIPTION:We will be featuring Bayou Basses & Guitars and Lynne’s sea glass mosaics and garden art.
URL:https://morphosiscreative.com/event/art-music-on-the-farm/
LOCATION:The Barrier Island Center\, 7295 Young St\, Machipongo\, VA\, 23405\, United States
END:VEVENT
BEGIN:VEVENT
DTSTART;TZID=UTC:20230512T170000
DTEND;TZID=UTC:20230512T193000
DTSTAMP:20260425T162115
CREATED:20230421T191432Z
LAST-MODIFIED:20230421T191432Z
UID:1048-1683910800-1683919800@morphosiscreative.com
SUMMARY:Mother's Day Event
DESCRIPTION:Meet the artisan Joel Simpson\, who is an incredible wood crafter.  A full selection of bowls\, spoons\, cutting boards and more will be available. We will have live music and refreshments.\n\nAll are welcome!
URL:https://morphosiscreative.com/event/mothers-day-event/
LOCATION:Morphosis Gallery\, 33 Market Street\, Onancock\, VA\, 23417\, United States
ORGANIZER;CN="Bill & Lynne Kretzer":MAILTO:lynnekretzer@gmail.com
END:VEVENT
BEGIN:VEVENT
DTSTART;TZID=UTC:20230414T163000
DTEND;TZID=UTC:20230414T193000
DTSTAMP:20260425T162115
CREATED:20230225T152820Z
LAST-MODIFIED:20230225T152820Z
UID:979-1681489800-1681500600@morphosiscreative.com
SUMMARY:Meet the Artist: Elizabeth Rhoades\, impressionist Fine Artist
DESCRIPTION:We welcome Elizabeth to our gallery.  She will bring a diverse offering of paintings from her studio to fill our front room. It will be a must see event! Music by David Pruitt and sweet treats!!! All welcome!
URL:https://morphosiscreative.com/event/meet-the-artist-elizabeth-rhoades-impressionist-fine-artist/
LOCATION:Morphosis Gallery\, 33 Market Street\, Onancock\, VA\, 23417\, United States
ORGANIZER;CN="Bill & Lynne Kretzer":MAILTO:lynnekretzer@gmail.com
END:VEVENT
BEGIN:VEVENT
DTSTART;TZID=UTC:20230318T150000
DTEND;TZID=UTC:20230318T170000
DTSTAMP:20260425T162115
CREATED:20230225T152601Z
LAST-MODIFIED:20230225T152601Z
UID:977-1679151600-1679158800@morphosiscreative.com
SUMMARY:Onancock's St. Patrick's Day Parade
DESCRIPTION:Onancock’s annual St. Patrick’s day parade.  Our gallery will remain open before and after the event.
URL:https://morphosiscreative.com/event/onancocks-st-patricks-day-parade/
LOCATION:VA
END:VEVENT
BEGIN:VEVENT
DTSTART;TZID=UTC:20230317T163000
DTEND;TZID=UTC:20230317T193000
DTSTAMP:20260425T162115
CREATED:20230225T152417Z
LAST-MODIFIED:20230225T152417Z
UID:975-1679070600-1679081400@morphosiscreative.com
SUMMARY:Meet the Artist: Featuring Dan Jasper of Jasper Guitars
DESCRIPTION:We welcome Jasper Guitars as a new addition to our gallery. Dan will have a large studio display of his extraordinary Guitars and Basses. Live music and refreshments\, all welcome!!!
URL:https://morphosiscreative.com/event/meet-the-artist-featuring-dan-jasper-of-jasper-guitars/
LOCATION:Morphosis Gallery\, 33 Market Street\, Onancock\, VA\, 23417\, United States
ORGANIZER;CN="Bill & Lynne Kretzer":MAILTO:lynnekretzer@gmail.com
END:VEVENT
BEGIN:VEVENT
DTSTART;TZID=UTC:20230210T163000
DTEND;TZID=UTC:20230210T193000
DTSTAMP:20260425T162115
CREATED:20230112T004603Z
LAST-MODIFIED:20230112T004603Z
UID:713-1676046600-1676057400@morphosiscreative.com
SUMMARY:Valentine's Day Celebration & Meet the Artist
DESCRIPTION:Featuring Jamie Fitzpatrick pottery & popup studio display.
URL:https://morphosiscreative.com/event/valentines-day-celebration-meet-the-artist/
LOCATION:Morphosis Gallery\, 33 Market Street\, Onancock\, VA\, 23417\, United States
ORGANIZER;CN="Bill & Lynne Kretzer":MAILTO:lynnekretzer@gmail.com
END:VEVENT
END:VCALENDAR