BEGIN:VCALENDAR
VERSION:2.0
PRODID:-//Morphosis Creative - ECPv6.9.1//NONSGML v1.0//EN
CALSCALE:GREGORIAN
METHOD:PUBLISH
X-ORIGINAL-URL:https://morphosiscreative.com
X-WR-CALDESC:Events for Morphosis Creative
REFRESH-INTERVAL;VALUE=DURATION:PT1H
X-Robots-Tag:noindex
X-PUBLISHED-TTL:PT1H
BEGIN:VTIMEZONE
TZID:UTC
BEGIN:STANDARD
TZOFFSETFROM:+0000
TZOFFSETTO:+0000
TZNAME:UTC
DTSTART:20250101T000000
END:STANDARD
END:VTIMEZONE
BEGIN:VEVENT
DTSTART;TZID=UTC:20251121T190000
DTEND;TZID=UTC:20251121T210000
DTSTAMP:20260423T212026
CREATED:20250918T163530Z
LAST-MODIFIED:20250918T163530Z
UID:1909-1763751600-1763758800@morphosiscreative.com
SUMMARY:Bayside Jazz\, featuring Ginny McMath
DESCRIPTION:Enjoy the wonderful & talented Ginny McMath accompanied by Kelly Harris and directed by Rick Appel. Ginny will bring her humor and musical talent to the listening room audience again. Also enjoy delicious dessert & coffee options from our menu. BYOB (bring your own bottle of wine) is also an option\, let us provide glasses ad opener for you!
URL:https://morphosiscreative.com/event/bayside-jazz-featuring-ginny-mcmath-2/
LOCATION:VA
END:VEVENT
END:VCALENDAR