BEGIN:VCALENDAR
VERSION:2.0
PRODID:-//Morphosis Creative - ECPv6.9.1//NONSGML v1.0//EN
CALSCALE:GREGORIAN
METHOD:PUBLISH
X-ORIGINAL-URL:https://morphosiscreative.com
X-WR-CALDESC:Events for Morphosis Creative
REFRESH-INTERVAL;VALUE=DURATION:PT1H
X-Robots-Tag:noindex
X-PUBLISHED-TTL:PT1H
BEGIN:VTIMEZONE
TZID:UTC
BEGIN:STANDARD
TZOFFSETFROM:+0000
TZOFFSETTO:+0000
TZNAME:UTC
DTSTART:20250101T000000
END:STANDARD
END:VTIMEZONE
BEGIN:VEVENT
DTSTART;TZID=UTC:20251115T190000
DTEND;TZID=UTC:20251115T210000
DTSTAMP:20260423T212015
CREATED:20250925T141611Z
LAST-MODIFIED:20250925T141611Z
UID:1914-1763233200-1763240400@morphosiscreative.com
SUMMARY:SALTS\, Celtic songs & Eastern Shore Stories
DESCRIPTION:Tom Nolan\, John Heinz & Bill Troxler with entertain you in music and stories. Enjoy the Celtic Rhythms and creative experience. We offer a dessert menu of sweet treats and warm & cold beverages. You also have the option to BYOB\, bring your own bottle\, and we will provide the glasses and open for you! Seating is limited so call Morphosis to reserve your seat 757-710-8718
URL:https://morphosiscreative.com/event/salts-celtic-songs-eastern-shore-stories/
LOCATION:VA
END:VEVENT
END:VCALENDAR