BEGIN:VCALENDAR
VERSION:2.0
PRODID:-//Morphosis Creative - ECPv6.9.1//NONSGML v1.0//EN
CALSCALE:GREGORIAN
METHOD:PUBLISH
X-WR-CALNAME:Morphosis Creative
X-ORIGINAL-URL:https://morphosiscreative.com
X-WR-CALDESC:Events for Morphosis Creative
REFRESH-INTERVAL;VALUE=DURATION:PT1H
X-Robots-Tag:noindex
X-PUBLISHED-TTL:PT1H
BEGIN:VTIMEZONE
TZID:UTC
BEGIN:STANDARD
TZOFFSETFROM:+0000
TZOFFSETTO:+0000
TZNAME:UTC
DTSTART:20250101T000000
END:STANDARD
END:VTIMEZONE
BEGIN:VEVENT
DTSTART;TZID=UTC:20251103T183000
DTEND;TZID=UTC:20251103T203000
DTSTAMP:20260423T211719
CREATED:20251016T141724Z
LAST-MODIFIED:20251016T141724Z
UID:1931-1762194600-1762201800@morphosiscreative.com
SUMMARY:Coffee Talk Series presents; "Writers Talking Writing"
DESCRIPTION:Writers Talking Writing- Why write? How do different writers actually do it? What do they do with the stuff after it’s written? Join Karen Gravelle and Steve Borges\, two local authors\, for a roundtable discussion of writing in today’s world. Karen and Steve will share their experiences in the shifting world of publishing. Open to writers\, those who think they might want to write\, readers\, the generally curious\, and anyone else.\n\nAn evening of brilliant insight while enjoying our delicious after dinner dessert coffee & dessert cafe. You may also BYOB\, bring your own bottle of wine and let us provide you with the glasses and opener.\n\nSeating is limited so call 757-710-8718 to reserve your seat or come into Morphosis.
URL:https://morphosiscreative.com/event/coffee-talk-series-presents-writers-talking-writing/
LOCATION:VA
END:VEVENT
END:VCALENDAR