BEGIN:VCALENDAR
VERSION:2.0
PRODID:-//Morphosis Creative - ECPv6.9.1//NONSGML v1.0//EN
CALSCALE:GREGORIAN
METHOD:PUBLISH
X-WR-CALNAME:Morphosis Creative
X-ORIGINAL-URL:https://morphosiscreative.com
X-WR-CALDESC:Events for Morphosis Creative
REFRESH-INTERVAL;VALUE=DURATION:PT1H
X-Robots-Tag:noindex
X-PUBLISHED-TTL:PT1H
BEGIN:VTIMEZONE
TZID:UTC
BEGIN:STANDARD
TZOFFSETFROM:+0000
TZOFFSETTO:+0000
TZNAME:UTC
DTSTART:20250101T000000
END:STANDARD
END:VTIMEZONE
BEGIN:VEVENT
DTSTART;TZID=UTC:20251017T190000
DTEND;TZID=UTC:20251017T210000
DTSTAMP:20260423T225405
CREATED:20250709T151849Z
LAST-MODIFIED:20250709T151849Z
UID:1882-1760727600-1760734800@morphosiscreative.com
SUMMARY:Chris English\, blues recording artist
DESCRIPTION:The extraordinarily talented Chris English is back! Do not hesitate to reserve seats for this show\, it sells out fast and seating is limited. Enjoy and intimate night with Chris. We offer a dessert and drink menu or BYOB\, bring a bottle of your choosing and we will provide the glasses.\n\nCall 757-710-8718 or come into Morphosis for your seats.
URL:https://morphosiscreative.com/event/chris-english-blues-recording-artist-3/
LOCATION:VA
END:VEVENT
END:VCALENDAR