BEGIN:VCALENDAR
VERSION:2.0
PRODID:-//Morphosis Creative - ECPv6.9.1//NONSGML v1.0//EN
CALSCALE:GREGORIAN
METHOD:PUBLISH
X-ORIGINAL-URL:https://morphosiscreative.com
X-WR-CALDESC:Events for Morphosis Creative
REFRESH-INTERVAL;VALUE=DURATION:PT1H
X-Robots-Tag:noindex
X-PUBLISHED-TTL:PT1H
BEGIN:VTIMEZONE
TZID:UTC
BEGIN:STANDARD
TZOFFSETFROM:+0000
TZOFFSETTO:+0000
TZNAME:UTC
DTSTART:20250101T000000
END:STANDARD
END:VTIMEZONE
BEGIN:VEVENT
DTSTART;TZID=UTC:20251011T190000
DTEND;TZID=UTC:20251011T210000
DTSTAMP:20260423T225807
CREATED:20250709T151016Z
LAST-MODIFIED:20250806T142841Z
UID:1878-1760209200-1760216400@morphosiscreative.com
SUMMARY:The Speakeasies
DESCRIPTION:Melinda McPeek and Scott Wade headline is unique and talented quartet which include Mike Blanchard on Bass and Mike Linen on drums. Enjoy there incredible show and our desserts and drink offerings from the menu. You can also BYOB\, bring your own bottle and we provide the glasses for you.\n\nCall or come onto Morphosis to reserve your seat. 757-710-8718. Seating is limited to 18.
URL:https://morphosiscreative.com/event/the-speakeasies/
LOCATION:VA
END:VEVENT
END:VCALENDAR