BEGIN:VCALENDAR
VERSION:2.0
PRODID:-//Morphosis Creative - ECPv6.9.1//NONSGML v1.0//EN
CALSCALE:GREGORIAN
METHOD:PUBLISH
X-ORIGINAL-URL:https://morphosiscreative.com
X-WR-CALDESC:Events for Morphosis Creative
REFRESH-INTERVAL;VALUE=DURATION:PT1H
X-Robots-Tag:noindex
X-PUBLISHED-TTL:PT1H
BEGIN:VTIMEZONE
TZID:UTC
BEGIN:STANDARD
TZOFFSETFROM:+0000
TZOFFSETTO:+0000
TZNAME:UTC
DTSTART:20250101T000000
END:STANDARD
END:VTIMEZONE
BEGIN:VEVENT
DTSTART;TZID=UTC:20250927T190000
DTEND;TZID=UTC:20250927T210000
DTSTAMP:20260424T004515
CREATED:20250709T145207Z
LAST-MODIFIED:20250806T142532Z
UID:1874-1758999600-1759006800@morphosiscreative.com
SUMMARY:SALTS\, Celtic tunes & Eastern Shore Stories
DESCRIPTION:Enjoy an evening of Celtic music and interesting stories featuring Tom Nolan\, John Heinz and Bill Troxler. Relax in our intimate setting while enjoying offerings from our delicious dessert menu. We also offer BYOB\, bring your own wine and we will provide the glasses!\n\nPlease call or come onto Morphosis to reserve your seats. Space is limited.
URL:https://morphosiscreative.com/event/salts-celtic-tunes-eastern-shore-stories/
LOCATION:VA
END:VEVENT
END:VCALENDAR