BEGIN:VCALENDAR
VERSION:2.0
PRODID:-//Morphosis Creative - ECPv6.9.1//NONSGML v1.0//EN
CALSCALE:GREGORIAN
METHOD:PUBLISH
X-ORIGINAL-URL:https://morphosiscreative.com
X-WR-CALDESC:Events for Morphosis Creative
REFRESH-INTERVAL;VALUE=DURATION:PT1H
X-Robots-Tag:noindex
X-PUBLISHED-TTL:PT1H
BEGIN:VTIMEZONE
TZID:UTC
BEGIN:STANDARD
TZOFFSETFROM:+0000
TZOFFSETTO:+0000
TZNAME:UTC
DTSTART:20250101T000000
END:STANDARD
END:VTIMEZONE
BEGIN:VEVENT
DTSTART;TZID=UTC:20250905T190000
DTEND;TZID=UTC:20250905T210000
DTSTAMP:20260424T004515
CREATED:20250716T143921Z
LAST-MODIFIED:20250821T155941Z
UID:1889-1757098800-1757106000@morphosiscreative.com
SUMMARY:La Doo Vay -SOLD OUT-
DESCRIPTION:This show has been sold out. Another night of unexpected fun & excellent music with La Doo Vay. Three local and talented musicians\, Pooh Johnston\, Clark Lovelady & Mike Blanchard playing the music they love!\n\nCome be a part of this unique experience and enjoy our dessert menu\, offering coffees\, teas\, sweets and more. there is also a BYOB\, bring your own bottle option.\n\nSeating is limited\, we recommend reserving your spot well in advance of this show. 757-710-8718
URL:https://morphosiscreative.com/event/la-doo-vay-2/
LOCATION:VA
END:VEVENT
END:VCALENDAR