BEGIN:VCALENDAR
VERSION:2.0
PRODID:-//Morphosis Creative - ECPv6.9.1//NONSGML v1.0//EN
CALSCALE:GREGORIAN
METHOD:PUBLISH
X-WR-CALNAME:Morphosis Creative
X-ORIGINAL-URL:https://morphosiscreative.com
X-WR-CALDESC:Events for Morphosis Creative
REFRESH-INTERVAL;VALUE=DURATION:PT1H
X-Robots-Tag:noindex
X-PUBLISHED-TTL:PT1H
BEGIN:VTIMEZONE
TZID:UTC
BEGIN:STANDARD
TZOFFSETFROM:+0000
TZOFFSETTO:+0000
TZNAME:UTC
DTSTART:20250101T000000
END:STANDARD
END:VTIMEZONE
BEGIN:VEVENT
DTSTART;TZID=UTC:20250614T190000
DTEND;TZID=UTC:20250614T210000
DTSTAMP:20260424T051832
CREATED:20250321T161614Z
LAST-MODIFIED:20250529T161227Z
UID:1753-1749927600-1749934800@morphosiscreative.com
SUMMARY:Jackie Faison\,  Rhythm & Blues Band
DESCRIPTION:We are presenting the rhythm and soul of Jackie’s brilliant voice accompanied by Barney Russell on guitar\, Bill Kretzer on keyboards and Mitchell Crosby on percussion. Enjoy listening to the soulful sounds and our after dinner dessert cafe. We offer a selection of coffees and sweet desserts\, BYOB optional. The listening room is limited to 18 seats so reservations are strongly suggested. 757-710-8718
URL:https://morphosiscreative.com/event/jackie-faison-trio-accompanied-by-bill-kretzer-keyboards-mitchell-crosby-percussion/
LOCATION:Morphosis Gallery\, 33 Market Street\, Onancock\, VA\, 23417\, United States
END:VEVENT
END:VCALENDAR