BEGIN:VCALENDAR
VERSION:2.0
PRODID:-//Morphosis Creative - ECPv6.9.1//NONSGML v1.0//EN
CALSCALE:GREGORIAN
METHOD:PUBLISH
X-WR-CALNAME:Morphosis Creative
X-ORIGINAL-URL:https://morphosiscreative.com
X-WR-CALDESC:Events for Morphosis Creative
REFRESH-INTERVAL;VALUE=DURATION:PT1H
X-Robots-Tag:noindex
X-PUBLISHED-TTL:PT1H
BEGIN:VTIMEZONE
TZID:UTC
BEGIN:STANDARD
TZOFFSETFROM:+0000
TZOFFSETTO:+0000
TZNAME:UTC
DTSTART:20250101T000000
END:STANDARD
END:VTIMEZONE
BEGIN:VEVENT
DTSTART;TZID=UTC:20250601T180000
DTEND;TZID=UTC:20250601T200000
DTSTAMP:20260424T051834
CREATED:20250304T185146Z
LAST-MODIFIED:20250522T153700Z
UID:1744-1748800800-1748808000@morphosiscreative.com
SUMMARY:"Listening Room"\, featuring Bayside Jazz
DESCRIPTION:Bayside Jazz is an ensemble of local Jazz  musicians lead by guitarist Rick Appel. Rick is from the Baltimore area. He traveled extensively\, on the road\, he played with many Jazz groups including a 19 piece big band. He will be joined by Steve Elliot on sax. Steve started  playing with bands in Philadelphia at a very young age. He currently plays with our Eastern shore orchestra. Mike Blanchard will be on bass\, he is a local favorite considered the best on the shore.\n\nEnjoy the music and our after dinner dessert cafe\, coffees and desserts\, BYOB optional. We are limited to 18 seats\, so reservations are strongly suggested. 757-710-8718
URL:https://morphosiscreative.com/event/listening-room-featuring-bayside-jazz/
LOCATION:Morphosis Gallery\, 33 Market Street\, Onancock\, VA\, 23417\, United States
END:VEVENT
END:VCALENDAR