BEGIN:VCALENDAR
VERSION:2.0
PRODID:-//Morphosis Creative - ECPv6.9.1//NONSGML v1.0//EN
CALSCALE:GREGORIAN
METHOD:PUBLISH
X-WR-CALNAME:Morphosis Creative
X-ORIGINAL-URL:https://morphosiscreative.com
X-WR-CALDESC:Events for Morphosis Creative
REFRESH-INTERVAL;VALUE=DURATION:PT1H
X-Robots-Tag:noindex
X-PUBLISHED-TTL:PT1H
BEGIN:VTIMEZONE
TZID:UTC
BEGIN:STANDARD
TZOFFSETFROM:+0000
TZOFFSETTO:+0000
TZNAME:UTC
DTSTART:20250101T000000
END:STANDARD
END:VTIMEZONE
BEGIN:VEVENT
DTSTART;TZID=UTC:20250517T190000
DTEND;TZID=UTC:20250517T210000
DTSTAMP:20260424T080039
CREATED:20250304T184513Z
LAST-MODIFIED:20250504T170605Z
UID:1741-1747508400-1747515600@morphosiscreative.com
SUMMARY:"The Listening Room"\, featuring Bayside Jazz
DESCRIPTION:Bayside Jazz is an ensemble of local Jazz musicians lead by guitarist Rick Appel. Rick  is from the Baltimore area. He traveled extensively playing  on the road for several years. He has worked with small venues to 19 piece big bands. Rick will be joined by Sean Thomas owner of  “Maurice’s”\, Onancock and Eastern Shores favorite\, unique restaurant and former NYC Broadway performer. They are accompanied by Kelly Harris\, a local favorite\, on keyboards.\n\nThe Listening room is modeled after an intimate house concert\, poplar in big cities across the country. It’s an opportunity to listen to quality musicians in a relaxed\, intimate setting. It is also an after dinner dessert lounge with coffees\, sweet treats and a BYOB option. There are only 20 seats available\, so reservations are strongly suggested. 757-710-8718\n\n 
URL:https://morphosiscreative.com/event/the-listening-room-featuring-bayside-jazz/
LOCATION:Morphosis Gallery\, 33 Market Street\, Onancock\, VA\, 23417\, United States
END:VEVENT
END:VCALENDAR