BEGIN:VCALENDAR
VERSION:2.0
PRODID:-//Morphosis Creative - ECPv6.9.1//NONSGML v1.0//EN
CALSCALE:GREGORIAN
METHOD:PUBLISH
X-ORIGINAL-URL:https://morphosiscreative.com
X-WR-CALDESC:Events for Morphosis Creative
REFRESH-INTERVAL;VALUE=DURATION:PT1H
X-Robots-Tag:noindex
X-PUBLISHED-TTL:PT1H
BEGIN:VTIMEZONE
TZID:UTC
BEGIN:STANDARD
TZOFFSETFROM:+0000
TZOFFSETTO:+0000
TZNAME:UTC
DTSTART:20250101T000000
END:STANDARD
END:VTIMEZONE
BEGIN:VEVENT
DTSTART;TZID=UTC:20250502T190000
DTEND;TZID=UTC:20250502T210000
DTSTAMP:20260424T080325
CREATED:20250304T183232Z
LAST-MODIFIED:20250421T203029Z
UID:1735-1746212400-1746219600@morphosiscreative.com
SUMMARY:"The Listening Room"\, featuring Scott & Melinda
DESCRIPTION:Scott Wade & Melinda McPeek have been  a duo in music and in life since getting together to do an open-mic in 1995. Prior to coming to the eastern Shore they lived and played music together in Washington DC\, Alaska and New Mexico. For the past 10 years they have been entertaining the ESVA as a duo and as a host of other bands including the Speakeasies\, the Benders and Corn Funk Revue. Their music is soulful and diverse and includes deep cuts of blues\, Americana\, folk\, Jazz and originals. are a talented couple and favorite local musicians.\n\nThe Listening Room is modeled after an intimate house concert. It’s a chance to really relax and listen to excellent music by quality musicians in small \,casual setting. We offer an after dinner dessert menu\, including coffees and desserts. BYOB optional. We strongly suggest reservations in this 20 seat room. 757-710-8718
URL:https://morphosiscreative.com/event/the-listening-room-featuring-scott-melinda/
LOCATION:Morphosis Gallery\, 33 Market Street\, Onancock\, VA\, 23417\, United States
END:VEVENT
END:VCALENDAR