BEGIN:VCALENDAR
VERSION:2.0
PRODID:-//Morphosis Creative - ECPv6.9.1//NONSGML v1.0//EN
CALSCALE:GREGORIAN
METHOD:PUBLISH
X-ORIGINAL-URL:https://morphosiscreative.com
X-WR-CALDESC:Events for Morphosis Creative
REFRESH-INTERVAL;VALUE=DURATION:PT1H
X-Robots-Tag:noindex
X-PUBLISHED-TTL:PT1H
BEGIN:VTIMEZONE
TZID:UTC
BEGIN:STANDARD
TZOFFSETFROM:+0000
TZOFFSETTO:+0000
TZNAME:UTC
DTSTART:20250101T000000
END:STANDARD
END:VTIMEZONE
BEGIN:VEVENT
DTSTART;TZID=UTC:20250404T190000
DTEND;TZID=UTC:20250404T210000
DTSTAMP:20260424T092619
CREATED:20250304T175345Z
LAST-MODIFIED:20250308T152102Z
UID:1725-1743793200-1743800400@morphosiscreative.com
SUMMARY:Grand Opening of "The Listening Room"\, featuring Chris English
DESCRIPTION:Morphosis is opening a intimate music room and dessert cafe. The listening room will feature talented musicians\, authors\, artists and other extraordinary local talent. It is also an after dinner cafe\, serving coffees\, teas and a variety of desserts & a BYOB option. We have limited seating so reservations are suggested.\n\nChris English is a well known local favorite. The is a blues recording artist and has a legendary style and sound. We are thrilled to have him featured as our 1st act.
URL:https://morphosiscreative.com/event/grand-opening-of-the-listening-room-featuring-chris-english/
LOCATION:Morphosis Gallery\, 33 Market Street\, Onancock\, VA\, 23417\, United States
END:VEVENT
END:VCALENDAR