BEGIN:VCALENDAR
VERSION:2.0
PRODID:-//Morphosis Creative - ECPv6.9.1//NONSGML v1.0//EN
CALSCALE:GREGORIAN
METHOD:PUBLISH
X-ORIGINAL-URL:https://morphosiscreative.com
X-WR-CALDESC:Events for Morphosis Creative
REFRESH-INTERVAL;VALUE=DURATION:PT1H
X-Robots-Tag:noindex
X-PUBLISHED-TTL:PT1H
BEGIN:VTIMEZONE
TZID:UTC
BEGIN:STANDARD
TZOFFSETFROM:+0000
TZOFFSETTO:+0000
TZNAME:UTC
DTSTART:20240101T000000
END:STANDARD
END:VTIMEZONE
BEGIN:VEVENT
DTSTART;TZID=UTC:20240712T170000
DTEND;TZID=UTC:20240712T193000
DTSTAMP:20260424T222550
CREATED:20240623T152452Z
LAST-MODIFIED:20240623T152452Z
UID:1660-1720803600-1720812600@morphosiscreative.com
SUMMARY:2nd Friday party on Market Street\, featuring Boy Wells and the Cape Crusaders
DESCRIPTION:Market Street will be closed for July’s 2nd Friday celebration. Morphosis Gallery will be sponsoring the music and hosting Boy Wells and the Cape Crusaders\, with special guest performances including Virginia Grace and Hayden Cossitt. Bizotto’s Restaurant will have special\, to go\, eat and drink options to enjoy while watching the music. Morphosis Gallery will remain open with special promotions during the evening.
URL:https://morphosiscreative.com/event/2nd-friday-party-on-market-street-featuring-boy-wells-and-the-cape-crusaders/
LOCATION:Morphosis Gallery\, 33 Market Street\, Onancock\, VA\, 23417\, United States
ORGANIZER;CN="Bill & Lynne Kretzer":MAILTO:lynnekretzer@gmail.com
END:VEVENT
END:VCALENDAR