BEGIN:VCALENDAR
VERSION:2.0
PRODID:-//Morphosis Creative - ECPv6.9.1//NONSGML v1.0//EN
CALSCALE:GREGORIAN
METHOD:PUBLISH
X-ORIGINAL-URL:https://morphosiscreative.com
X-WR-CALDESC:Events for Morphosis Creative
REFRESH-INTERVAL;VALUE=DURATION:PT1H
X-Robots-Tag:noindex
X-PUBLISHED-TTL:PT1H
BEGIN:VTIMEZONE
TZID:UTC
BEGIN:STANDARD
TZOFFSETFROM:+0000
TZOFFSETTO:+0000
TZNAME:UTC
DTSTART:20240101T000000
END:STANDARD
END:VTIMEZONE
BEGIN:VEVENT
DTSTART;TZID=UTC:20240525T100000
DTEND;TZID=UTC:20240525T160000
DTSTAMP:20260425T015400
CREATED:20240421T170343Z
LAST-MODIFIED:20240421T170343Z
UID:1548-1716631200-1716652800@morphosiscreative.com
SUMMARY:Art & Music on the Farm\, Barrier Island Center
DESCRIPTION:Morphosis Gallery will be represented at the Barrier Island Festival\, “Art & Music on the Farm.”\n\nJoin for a wonderful event. Bayou Basses\, Jasper Custom Guitars\, and Lynne Kretzer artisan will be showing there instruments and art along with the Eastern shores finest. Live music\, beautiful artwork and delicious food.\n\n 
URL:https://morphosiscreative.com/event/art-music-on-the-farm-barrier-island-center/
LOCATION:The Barrier Island Center\, 7295 Young St\, Machipongo\, VA\, 23405\, United States
END:VEVENT
END:VCALENDAR