BEGIN:VCALENDAR
VERSION:2.0
PRODID:-//Morphosis Creative - ECPv6.9.1//NONSGML v1.0//EN
CALSCALE:GREGORIAN
METHOD:PUBLISH
X-WR-CALNAME:Morphosis Creative
X-ORIGINAL-URL:https://morphosiscreative.com
X-WR-CALDESC:Events for Morphosis Creative
REFRESH-INTERVAL;VALUE=DURATION:PT1H
X-Robots-Tag:noindex
X-PUBLISHED-TTL:PT1H
BEGIN:VTIMEZONE
TZID:UTC
BEGIN:STANDARD
TZOFFSETFROM:+0000
TZOFFSETTO:+0000
TZNAME:UTC
DTSTART:20230101T000000
END:STANDARD
END:VTIMEZONE
BEGIN:VEVENT
DTSTART;VALUE=DATE:20231124
DTEND;VALUE=DATE:20231127
DTSTAMP:20260425T113536
CREATED:20231004T145351Z
LAST-MODIFIED:20231004T145351Z
UID:1378-1700784000-1701043199@morphosiscreative.com
SUMMARY:Annual ESVA Artisan Tour
DESCRIPTION:Be sure to make Morphosis Gallery a stop on the annual ESVA Artisan tour hosted by the ESVA Art league. Dan Jasper and Bill Kretzer luthiers will be displaying their handcrafted instrument. Lynne Kretzer will display her mixed media art. And we will feature Elizabeth Rhoades fine art\, Joel Simpson wood carved pieces and Brenda Llewellyn and Jamie Kirkpatrick ceramic’s.
URL:https://morphosiscreative.com/event/annual-esva-artisan-tour/
LOCATION:Morphosis Gallery\, 33 Market Street\, Onancock\, VA\, 23417\, United States
END:VEVENT
END:VCALENDAR